BEGIN:VCALENDAR
VERSION:2.0
PRODID:-//Viljandi Kitarrifestival - ECPv6.15.20//NONSGML v1.0//EN
CALSCALE:GREGORIAN
METHOD:PUBLISH
X-WR-CALNAME:Viljandi Kitarrifestival
X-ORIGINAL-URL:https://viljandiguitar.ee
X-WR-CALDESC:Events for Viljandi Kitarrifestival
REFRESH-INTERVAL;VALUE=DURATION:PT1H
X-Robots-Tag:noindex
X-PUBLISHED-TTL:PT1H
BEGIN:VTIMEZONE
TZID:UTC
BEGIN:STANDARD
TZOFFSETFROM:+0000
TZOFFSETTO:+0000
TZNAME:UTC
DTSTART:20250101T000000
END:STANDARD
END:VTIMEZONE
BEGIN:VEVENT
DTSTART;TZID=UTC:20260424T190000
DTEND;TZID=UTC:20260424T200000
DTSTAMP:20260421T115911
CREATED:20250309T092507Z
LAST-MODIFIED:20260320T164406Z
UID:22444-1777057200-1777060800@viljandiguitar.ee
SUMMARY:Kevadkontsert: Stuart Ironside
DESCRIPTION:Kevadkontsert: Stuart Ironside / UK								\n				\n				\n				\n					24. aprill 2026				\n				\n				\n				\n							\n			\n		\n						\n				\n				\n				\n					KELL 19:00 | MYRA				\n				\n				\n				\n							\n			\n		\n						\n				\n				\n				\n					Osta pilet				\n				\n				\n				\n							\n			\n		\n						\n				\n				\n						\n					\n			\n						\n				\n							\n							\n					\n						Facebook\n											\n				\n							\n					\n						Spotify\n											\n				\n							\n					\n						Instagram\n											\n				\n							\n					\n						Youtube\n											\n				\n							\n					\n						Link\n											\n				\n					\n						\n				\n				\n				\n																														\n				\n					\n		\n				\n			\n						\n				\n							\n			\n		\n						\n				\n				\n				\n									Viljandi Kitarrifestival astub esmakordselt oma tavapärasest raamistikust välja ning toob publiku ette eraldiseisva kevadise erikontserdi! Stuart Ironside on Briti kitarrist\, kes ühendab klassikalise mängutehnika\, erinevate kultuuride muusikalised mõjutused ning looduse helid\, et luua omanäoline muusikaline keel. Stuarti teine album „Music from Somewhere Else“ on salvestatud Põhja-Eesti metsades. Kaheosaline teos\, mis ühendab seadeid\, originaalloomingut ja improvisatsiooni\, kujutab endast duetti Stuarti ja looduse vahel. Esimene osa „The Enclosure“ ilmus 2025. aasta detsembris ning teine osa „The Wildlands“ tuleb esitusele Viljandi Kitarrifestivali Kevadkontserdil MYRAS. Praegu Eestis tegutsev Stuart on lõpetanud Cardiffi Ülikooli ning Londoni SOASi Ülikooli. Oma õpingute käigus on ta süvenenud klassikalisse muusikasse\, Briti rahvalauludesse\, Lääne-Aafrika mande-muusikasse ja Jaava gamelani traditsiooni. Nende erinevate muusikastiilide kaudu on ta kujundanud oma isikupärase mängulaadi\, uurides oma seost igaühega neist ja leides omaenda hääle. Stuart andis 2022. aastal välja oma debüütalbumi „The Wallace Line“\, millele järgnes 2024. aastal EP lühifilmi „Voces Humanas“ heliribaga (stsenarist ja režissöör Florencia Cáceres). Tema hiljutised projektid\, inspireeritud elust Eestis\, on keskendunud tantsule ja liikumisele\, loodusega suhestumisele ning pikematele improvisatsioonidele. Stuart rõhutab sidet loodusega\, vabadust esitusviisis ning meditatiivsete seisundite omaksvõttu oma voolava ja tundeküllase helikeele kaudu. Pärast kontserti on võimalus osa saada MYRA “Kuulamisklubist” kus paneme mängima maja imelise akustika ja helisüsteemiga Stuarti albumi „The Wildlands“. Sündmust toetab Kultuuriministeerium.
URL:https://viljandiguitar.ee/event/kevadkontsert-stuart-ironside/
LOCATION:MYRA\, Pärnu maantee 1\, Estonia
CATEGORIES:Festival 2026
ATTACH;FMTTYPE=image/jpeg:https://viljandiguitar.ee/wp-content/uploads/2025/03/Stuart2025_web-27.jpg
END:VEVENT
BEGIN:VEVENT
DTSTART;TZID=UTC:20261009T203000
DTEND;TZID=UTC:20261009T220000
DTSTAMP:20260421T115911
CREATED:20250309T083156Z
LAST-MODIFIED:20260313T142526Z
UID:22391-1791577800-1791583200@viljandiguitar.ee
SUMMARY:The Chaplin Project by the Stochelo & Mozes Rosenberg Trio
DESCRIPTION:Kevadkontsert: Stuart Ironside / UK								\n				\n				\n				\n					24. aprill 2026				\n				\n				\n				\n							\n			\n		\n						\n				\n				\n				\n					KELL 19:00 | MYRA				\n				\n				\n				\n							\n			\n		\n						\n				\n				\n				\n					Osta pilet				\n				\n				\n				\n							\n			\n		\n						\n				\n				\n						\n					\n			\n						\n				\n							\n							\n					\n						Facebook\n											\n				\n							\n					\n						Spotify\n											\n				\n							\n					\n						Instagram\n											\n				\n							\n					\n						Youtube\n											\n				\n							\n					\n						Link\n											\n				\n					\n						\n				\n				\n				\n																														\n				\n					\n		\n				\n			\n						\n				\n							\n			\n		\n						\n				\n				\n				\n									Viljandi Kitarrifestival astub esmakordselt oma tavapärasest raamistikust välja ning toob publiku ette eraldiseisva kevadise erikontserdi! Stuart Ironside on Briti kitarrist\, kes ühendab klassikalise mängutehnika\, erinevate kultuuride muusikalised mõjutused ning looduse helid\, et luua omanäoline muusikaline keel. Stuarti teine album „Music from Somewhere Else“ on salvestatud Põhja-Eesti metsades. Kaheosaline teos\, mis ühendab seadeid\, originaalloomingut ja improvisatsiooni\, kujutab endast duetti Stuarti ja looduse vahel. Esimene osa „The Enclosure“ ilmus 2025. aasta detsembris ning teine osa „The Wildlands“ tuleb esitusele Viljandi Kitarrifestivali Kevadkontserdil MYRAS. Praegu Eestis tegutsev Stuart on lõpetanud Cardiffi Ülikooli ning Londoni SOASi Ülikooli. Oma õpingute käigus on ta süvenenud klassikalisse muusikasse\, Briti rahvalauludesse\, Lääne-Aafrika mande-muusikasse ja Jaava gamelani traditsiooni. Nende erinevate muusikastiilide kaudu on ta kujundanud oma isikupärase mängulaadi\, uurides oma seost igaühega neist ja leides omaenda hääle. Stuart andis 2022. aastal välja oma debüütalbumi „The Wallace Line“\, millele järgnes 2024. aastal EP lühifilmi „Voces Humanas“ heliribaga (stsenarist ja režissöör Florencia Cáceres). Tema hiljutised projektid\, inspireeritud elust Eestis\, on keskendunud tantsule ja liikumisele\, loodusega suhestumisele ning pikematele improvisatsioonidele. Stuart rõhutab sidet loodusega\, vabadust esitusviisis ning meditatiivsete seisundite omaksvõttu oma voolava ja tundeküllase helikeele kaudu. Pärast kontserti on võimalus osa saada MYRA “Kuulamisklubist” kus paneme mängima maja imelise akustika ja helisüsteemiga Stuarti albumi „The Wildlands“. Sündmust toetab Kultuuriministeerium.
URL:https://viljandiguitar.ee/event/thechaplinproject/
LOCATION:Aida Suur Saal
CATEGORIES:Festival 09.10.26,Festival 2026
ATTACH;FMTTYPE=image/jpeg:https://viljandiguitar.ee/wp-content/uploads/2025/03/PvH-2-scaled.jpg
END:VEVENT
BEGIN:VEVENT
DTSTART;TZID=UTC:20261010T130000
DTEND;TZID=UTC:20261010T150000
DTSTAMP:20260421T115911
CREATED:20250309T085404Z
LAST-MODIFIED:20260313T142501Z
UID:22407-1791637200-1791644400@viljandiguitar.ee
SUMMARY:Eesti Keeled
DESCRIPTION:Kevadkontsert: Stuart Ironside / UK								\n				\n				\n				\n					24. aprill 2026				\n				\n				\n				\n							\n			\n		\n						\n				\n				\n				\n					KELL 19:00 | MYRA				\n				\n				\n				\n							\n			\n		\n						\n				\n				\n				\n					Osta pilet				\n				\n				\n				\n							\n			\n		\n						\n				\n				\n						\n					\n			\n						\n				\n							\n							\n					\n						Facebook\n											\n				\n							\n					\n						Spotify\n											\n				\n							\n					\n						Instagram\n											\n				\n							\n					\n						Youtube\n											\n				\n							\n					\n						Link\n											\n				\n					\n						\n				\n				\n				\n																														\n				\n					\n		\n				\n			\n						\n				\n							\n			\n		\n						\n				\n				\n				\n									Viljandi Kitarrifestival astub esmakordselt oma tavapärasest raamistikust välja ning toob publiku ette eraldiseisva kevadise erikontserdi! Stuart Ironside on Briti kitarrist\, kes ühendab klassikalise mängutehnika\, erinevate kultuuride muusikalised mõjutused ning looduse helid\, et luua omanäoline muusikaline keel. Stuarti teine album „Music from Somewhere Else“ on salvestatud Põhja-Eesti metsades. Kaheosaline teos\, mis ühendab seadeid\, originaalloomingut ja improvisatsiooni\, kujutab endast duetti Stuarti ja looduse vahel. Esimene osa „The Enclosure“ ilmus 2025. aasta detsembris ning teine osa „The Wildlands“ tuleb esitusele Viljandi Kitarrifestivali Kevadkontserdil MYRAS. Praegu Eestis tegutsev Stuart on lõpetanud Cardiffi Ülikooli ning Londoni SOASi Ülikooli. Oma õpingute käigus on ta süvenenud klassikalisse muusikasse\, Briti rahvalauludesse\, Lääne-Aafrika mande-muusikasse ja Jaava gamelani traditsiooni. Nende erinevate muusikastiilide kaudu on ta kujundanud oma isikupärase mängulaadi\, uurides oma seost igaühega neist ja leides omaenda hääle. Stuart andis 2022. aastal välja oma debüütalbumi „The Wallace Line“\, millele järgnes 2024. aastal EP lühifilmi „Voces Humanas“ heliribaga (stsenarist ja režissöör Florencia Cáceres). Tema hiljutised projektid\, inspireeritud elust Eestis\, on keskendunud tantsule ja liikumisele\, loodusega suhestumisele ning pikematele improvisatsioonidele. Stuart rõhutab sidet loodusega\, vabadust esitusviisis ning meditatiivsete seisundite omaksvõttu oma voolava ja tundeküllase helikeele kaudu. Pärast kontserti on võimalus osa saada MYRA “Kuulamisklubist” kus paneme mängima maja imelise akustika ja helisüsteemiga Stuarti albumi „The Wildlands“. Sündmust toetab Kultuuriministeerium.
URL:https://viljandiguitar.ee/event/eesti-keeled/
LOCATION:Viljandi Baptisti Kirik
CATEGORIES:Festival 10.10.26,Festival 2026
ATTACH;FMTTYPE=image/jpeg:https://viljandiguitar.ee/wp-content/uploads/2025/03/EestikeeledRene-scaled.jpg
END:VEVENT
BEGIN:VEVENT
DTSTART;TZID=UTC:20261010T140000
DTEND;TZID=UTC:20261010T150000
DTSTAMP:20260421T115911
CREATED:20250309T092105Z
LAST-MODIFIED:20260330T114853Z
UID:22436-1791640800-1791644400@viljandiguitar.ee
SUMMARY:Sten-Olle Moldau
DESCRIPTION:Kevadkontsert: Stuart Ironside / UK								\n				\n				\n				\n					24. aprill 2026				\n				\n				\n				\n							\n			\n		\n						\n				\n				\n				\n					KELL 19:00 | MYRA				\n				\n				\n				\n							\n			\n		\n						\n				\n				\n				\n					Osta pilet				\n				\n				\n				\n							\n			\n		\n						\n				\n				\n						\n					\n			\n						\n				\n							\n							\n					\n						Facebook\n											\n				\n							\n					\n						Spotify\n											\n				\n							\n					\n						Instagram\n											\n				\n							\n					\n						Youtube\n											\n				\n							\n					\n						Link\n											\n				\n					\n						\n				\n				\n				\n																														\n				\n					\n		\n				\n			\n						\n				\n							\n			\n		\n						\n				\n				\n				\n									Viljandi Kitarrifestival astub esmakordselt oma tavapärasest raamistikust välja ning toob publiku ette eraldiseisva kevadise erikontserdi! Stuart Ironside on Briti kitarrist\, kes ühendab klassikalise mängutehnika\, erinevate kultuuride muusikalised mõjutused ning looduse helid\, et luua omanäoline muusikaline keel. Stuarti teine album „Music from Somewhere Else“ on salvestatud Põhja-Eesti metsades. Kaheosaline teos\, mis ühendab seadeid\, originaalloomingut ja improvisatsiooni\, kujutab endast duetti Stuarti ja looduse vahel. Esimene osa „The Enclosure“ ilmus 2025. aasta detsembris ning teine osa „The Wildlands“ tuleb esitusele Viljandi Kitarrifestivali Kevadkontserdil MYRAS. Praegu Eestis tegutsev Stuart on lõpetanud Cardiffi Ülikooli ning Londoni SOASi Ülikooli. Oma õpingute käigus on ta süvenenud klassikalisse muusikasse\, Briti rahvalauludesse\, Lääne-Aafrika mande-muusikasse ja Jaava gamelani traditsiooni. Nende erinevate muusikastiilide kaudu on ta kujundanud oma isikupärase mängulaadi\, uurides oma seost igaühega neist ja leides omaenda hääle. Stuart andis 2022. aastal välja oma debüütalbumi „The Wallace Line“\, millele järgnes 2024. aastal EP lühifilmi „Voces Humanas“ heliribaga (stsenarist ja režissöör Florencia Cáceres). Tema hiljutised projektid\, inspireeritud elust Eestis\, on keskendunud tantsule ja liikumisele\, loodusega suhestumisele ning pikematele improvisatsioonidele. Stuart rõhutab sidet loodusega\, vabadust esitusviisis ning meditatiivsete seisundite omaksvõttu oma voolava ja tundeküllase helikeele kaudu. Pärast kontserti on võimalus osa saada MYRA “Kuulamisklubist” kus paneme mängima maja imelise akustika ja helisüsteemiga Stuarti albumi „The Wildlands“. Sündmust toetab Kultuuriministeerium.
URL:https://viljandiguitar.ee/event/sten-olle-moldau/
LOCATION:Nukuteater
CATEGORIES:Festival 10.10.26,Festival 2026
ATTACH;FMTTYPE=image/jpeg:https://viljandiguitar.ee/wp-content/uploads/2025/03/Sten-Olle-22.jpg
END:VEVENT
BEGIN:VEVENT
DTSTART;TZID=UTC:20261011T150000
DTEND;TZID=UTC:20261011T160000
DTSTAMP:20260421T115911
CREATED:20250309T091906Z
LAST-MODIFIED:20260407T143320Z
UID:22433-1791730800-1791734400@viljandiguitar.ee
SUMMARY:Erki Pärnoja
DESCRIPTION:Kevadkontsert: Stuart Ironside / UK								\n				\n				\n				\n					24. aprill 2026				\n				\n				\n				\n							\n			\n		\n						\n				\n				\n				\n					KELL 19:00 | MYRA				\n				\n				\n				\n							\n			\n		\n						\n				\n				\n				\n					Osta pilet				\n				\n				\n				\n							\n			\n		\n						\n				\n				\n						\n					\n			\n						\n				\n							\n							\n					\n						Facebook\n											\n				\n							\n					\n						Spotify\n											\n				\n							\n					\n						Instagram\n											\n				\n							\n					\n						Youtube\n											\n				\n							\n					\n						Link\n											\n				\n					\n						\n				\n				\n				\n																														\n				\n					\n		\n				\n			\n						\n				\n							\n			\n		\n						\n				\n				\n				\n									Viljandi Kitarrifestival astub esmakordselt oma tavapärasest raamistikust välja ning toob publiku ette eraldiseisva kevadise erikontserdi! Stuart Ironside on Briti kitarrist\, kes ühendab klassikalise mängutehnika\, erinevate kultuuride muusikalised mõjutused ning looduse helid\, et luua omanäoline muusikaline keel. Stuarti teine album „Music from Somewhere Else“ on salvestatud Põhja-Eesti metsades. Kaheosaline teos\, mis ühendab seadeid\, originaalloomingut ja improvisatsiooni\, kujutab endast duetti Stuarti ja looduse vahel. Esimene osa „The Enclosure“ ilmus 2025. aasta detsembris ning teine osa „The Wildlands“ tuleb esitusele Viljandi Kitarrifestivali Kevadkontserdil MYRAS. Praegu Eestis tegutsev Stuart on lõpetanud Cardiffi Ülikooli ning Londoni SOASi Ülikooli. Oma õpingute käigus on ta süvenenud klassikalisse muusikasse\, Briti rahvalauludesse\, Lääne-Aafrika mande-muusikasse ja Jaava gamelani traditsiooni. Nende erinevate muusikastiilide kaudu on ta kujundanud oma isikupärase mängulaadi\, uurides oma seost igaühega neist ja leides omaenda hääle. Stuart andis 2022. aastal välja oma debüütalbumi „The Wallace Line“\, millele järgnes 2024. aastal EP lühifilmi „Voces Humanas“ heliribaga (stsenarist ja režissöör Florencia Cáceres). Tema hiljutised projektid\, inspireeritud elust Eestis\, on keskendunud tantsule ja liikumisele\, loodusega suhestumisele ning pikematele improvisatsioonidele. Stuart rõhutab sidet loodusega\, vabadust esitusviisis ning meditatiivsete seisundite omaksvõttu oma voolava ja tundeküllase helikeele kaudu. Pärast kontserti on võimalus osa saada MYRA “Kuulamisklubist” kus paneme mängima maja imelise akustika ja helisüsteemiga Stuarti albumi „The Wildlands“. Sündmust toetab Kultuuriministeerium.
URL:https://viljandiguitar.ee/event/erki-parnoja/
LOCATION:Holstre Magasiait
CATEGORIES:Festival 11.10.26,Festival 2026
ATTACH;FMTTYPE=image/jpeg:https://viljandiguitar.ee/wp-content/uploads/2025/03/web__35A0253-Edit-2-scaled.jpg
END:VEVENT
END:VCALENDAR